Workbook

Sheet 18년결산
A1: 2018년도 세입, 세출 결산 총괄표(안)
S2: (단위:천원)
B3: 세 입 예 산 | K3: 세 출 예 산 | T3: 비 고
B4: 관 | D4: 항 | F4: 목 | G4: 2018년 예산(A) | H4: 2018년 결산(B) | I4: 증감액(B-A) | K4: 관 | M4: 항 | O4: 목 | P4: 예산 | Q4: 2018년 예산(A) | R4: 2018년 결산(B) | S4: 증감액(B-A)
B5: 합 계 | G5: =SUM(G6:G34) -> 0 | H5: =SUM(H6:H50) -> 0 | I5: =H5-G5 -> 0 | K5: 합 계 | P5: =SUM(P6:P50) -> 0 | Q5: =SUM(Q6:Q50) -> 0 | R5: =SUM(R6:R48) -> 0 | S5: =R5-Q5 -> 0
A6: 01 | B6: 사업수입 | C6: 11 | D6: 사업수입 | E6: 111 | F6: 노인돌봄 방문서비스 | G6: 0 | H6: 0 | I6: =H6-G6 -> 0 | J6: 01 | K6: 사무비 | L6: 11 | M6: 인건비 | N6: 111 | O6: 급여 | Q6: 0 | R6: 0 | S6: =R6-Q6 -> 0
E7: 112 | F7: 장애인활동지원서비스 | G7: 0 | H7: 0 | I7: =H7-G7 -> 0 | N7: 112 | O7: 상여금 | Q7: 0 | R7: 0 | S7: =R7-Q7 -> 0
E8: 113 | F8: 가사간병방문서비스 | G8: 0 | H8: 0 | I8: =H8-G8 -> 0 | N8: 113 | O8: 일용잡급 | Q8: 0 | R8: 0 | S8: =R8-Q8 -> 0
E9: 114 | F9: 주간활동지원사업 | G9: 0 | H9: 0 | I9: =H9-G9 -> 0 | N9: 114 | O9: 제수당 | Q9: 0 | R9: 0 | S9: =R9-Q9 -> 0
E10: 115 | F10: 취업성공패키지 | G10: 0 | H10: 0 | I10: =H10-G10 -> 0 | N10: 115 | O10: 퇴직금 및 퇴직적립금 | Q10: 0 | R10: 0 | S10: =R10-Q10 -> 0
E11: 116 | F11: 자활근로사업 | G11: 0 | H11: 0 | I11: =H11-G11 -> 0 | N11: 116 | O11: 사회보험부담비용 | Q11: 0 | R11: 0 | S11: =R11-Q11 -> 0
E12: 117 | F12: 청년내일키움공제 | G12: 0 | H12: 0 | I12: =H12-G12 -> 0 | N12: 117 | O12: 기타후생경비 | Q12: 0 | R12: 0 | S12: =R12-Q12 -> 0
E13: 118 | F13: 자활사업활성화지원금 | G13: 0 | H13: 0 | I13: =H13-G13 -> 0 | Q13: 0 | R13: 0 | S13: =R13-Q13 -> 0
E14: 119 | F14: 의료지원사업비 | G14: 0 | H14: 0 | I14: =H14-G14 -> 0 | Q14: 0 | R14: 0 | S14: =R14-Q14 -> 0
A15: 02 | B15: 과년도수입 | C15: 21 | D15: 과년도수입 | E15: 211 | F15: 과년도수입 | G15: 0 | H15: 0 | I15: =H15-G15 -> 0 | Q15: 0 | R15: 0 | S15: =R15-Q15 -> 0
G16: 0 | H16: 0 | I16: =H16-G16 -> 0 | Q16: 0 | R16: 0 | S16: =R16-Q16 -> 0
A17: 03 | B17: 보조금수입 | C17: 31 | D17: 보조금 수입 | E17: 311 | F17: 국고보조금 | G17: 0 | H17: 0 | I17: =H17-G17 -> 0 | L17: 12 | M17: 업무추진비 | N17: 121 | O17: 기관운영비 | P17: 0 | Q17: 0 | R17: 0 | S17: =R17-Q17 -> 0
E18: 312 | F18: 시도보조금 | G18: 0 | H18: 0 | I18: =H18-G18 -> 0 | N18: 122 | O18: 직책보조비 | P18: 0 | Q18: 0 | R18: 0 | S18: =R18-Q18 -> 0
E19: 313 | F19: 시군구보조금 | G19: 0 | H19: 0 | I19: =H19-G19 -> 0 | N19: 123 | O19: 회의비 | P19: 0 | Q19: 0 | R19: 0 | S19: =R19-Q19 -> 0
E20: 314 | F20: 기타보조금 | G20: 0 | H20: 0 | I20: =H20-G20 -> 0
A21: 04 | B21: 후원금수입 | C21: 41 | D21: 후원금 수입 | E21: 411 | F21: 지정후원금 | G21: 0 | H21: 0 | I21: =H21-G21 -> 0
E22: 412 | F22: 비지정후원금 | G22: 0 | H22: 0 | I22: =H22-G22 -> 0 | L22: 13 | M22: 운영비 | N22: 131 | O22: 여비 | Q22: 0 | R22: 0 | S22: =R22-Q22 -> 0
G23: 0 | H23: 0 | N23: 132 | O23: 수용비 및 수수료 | Q23: 0 | R23: 0 | S23: =R23-Q23 -> 0
G24: 0 | H24: 0 | N24: 133 | O24: 공공요금 | Q24: 0 | R24: 0 | S24: =R24-Q24 -> 0
A25: 05 | B25: 차입금 | C25: 51 | D25: 차입금 | E25: 511 | F25: 금융기관차입금 | G25: 0 | H25: 0 | I25: =H25-G25 -> 0 | N25: 134 | O25: 제세공과금 | Q25: 0 | R25: 0 | S25: =R25-Q25 -> 0
E26: 512 | F26: 기타차입금 | G26: 0 | H26: 0 | I26: =H26-G26 -> 0 | N26: 135 | O26: 차량비 | Q26: 0 | R26: 0 | S26: =R26-Q26 -> 0
A27: 06 | B27: 전입금 | C27: 61 | D27: 전입금 | E27: 611 | F27: 법인전입금 | G27: 0 | H27: 0 | I27: =H27-G27 -> 0 | N27: 136 | O27: 연료비 | Q27: 0 | R27: 0 | S27: =R27-Q27 -> 0
G28: 0 | H28: 0 | I28: =H28-G28 -> 0 | N28: 137 | O28: 기타운영비 | Q28: 0 | R28: 0 | S28: =R28-Q28 -> 0
A29: 07 | B29: 이월금 | C29: 71 | D29: 이월금 | E29: 711 | F29: 전년도이월금 | G29: 0 | H29: 0 | I29: =H29-G29 -> 0 | J29: 02 | K29: 재산조성비 | L29: 21 | M29: 시설비 | N29: 211 | O29: 시설비 | P29: 0 | Q29: 0 | R29: 0 | S29: =R29-Q29 -> 0
E30: 712 | F30: 이월사업비 | G30: 0 | H30: 0 | I30: =H30-G30 -> 0 | N30: 212 | O30: 자산취득비 | P30: 0 | Q30: 0 | R30: 0 | S30: =R30-Q30 -> 0
G31: 0 | H31: 0 | I31: =H31-G31 -> 0 | N31: 213 | O31: 시설장비유지비 | P31: 0 | Q31: 0 | R31: 0 | S31: =R31-Q31 -> 0
A32: 08 | B32: 잡수입 | C32: 81 | D32: 잡수입 | E32: 811 | F32: 불용품매각대금 | G32: 0 | H32: 0 | I32: =H32-G32 -> 0 | J32: 03 | K32: 사업비 | L32: 31 | M32: 사업비 | N32: 311 | O32: 자활사업활성화지원금 | P32: 0 | Q32: 0 | R32: 0 | S32: =R32-Q32 -> 0
E33: 812 | F33: 기타예금이자수입 | G33: 0 | H33: 0 | I33: =H33-G33 -> 0 | N33: 312 | O33: 노인돌봄 방문서비스 | Q33: 0 | R33: 0 | S33: =R33-Q33 -> 0
E34: 813 | F34: 기타잡수입 | G34: 0 | H34: 0 | I34: =H34-G34 -> 0 | N34: 313 | O34: 장애인활동지원서비스 | P34: 0 | Q34: 0 | R34: 0 | S34: =R34-Q34 -> 0
N35: 314 | O35: 가사간병방문서비스 | Q35: 0 | R35: 0 | S35: =R35-Q35 -> 0
N36: 315 | O36: 주간활동지원사업 | Q36: 0 | R36: 0 | S36: =R36-Q36 -> 0
N37: 316 | O37: 취업성공패키지 | Q37: 0 | R37: 0 | S37: =R37-Q37 -> 0
N38: 317 | O38: 자활근로사업 | Q38: 0 | R38: 0 | S38: =R38-Q38 -> 0
N39: 318 | O39: 의료지원사업비 | Q39: 0 | R39: 0 | S39: =R39-Q39 -> 0
R40: 0
...

Sheet 2020년도 예산
L1: (단위:원)
A2: 세 입 예 산 | G2: 세 출 예 산 | M2: 비 고
A3: 관 | B3: 항 | C3: 목 | D3: 2019년 결산(A) | E3: 2020년 예산안(B) | F3: 증감액(B-A) | G3: 관 | H3: 항 | I3: 목 | J3: 2019년 결산(A) | K3: 2020년 예산안(B) | L3: 증감액(B-A)
A4: 합 계 | D4: =SUM(D5:D70) -> 1294751650 | E4: =SUM(E5:E70) -> 4235589000 | F4: =E4-D4 -> 2940837350 | G4: 합 계 | J4: =SUM(J5:J70) -> 1294751650 | K4: =SUM(K5:K70) -> 4235589000 | L4: =SUM(L5:L70) -> 2940837350
A5: 사업수입 | B5: 사업수입 | C5: 지역시설도우미 | D5: 320441980 | E5: 1104180000 | F5: =E5-D5 -> 783738020 | G5: 사무비 | H5: 인건비 | I5: 급여 | J5: 62915420 | K5: 149104000 | L5: =K5-J5 -> 86188580
C6: 환경수호대 | D6: 184575140 | E6: 573300000 | F6: =E6-D6 -> 388724860 | I6: 제수당 | J6: 4120510 | K6: 15142000 | L6: =K6-J6 -> 11021490
C7: 학교환경지킴이 | D7: 67476250 | E7: 0 | F7: =E7-D7 -> -67476250 | I7: 퇴직금 및 퇴직적립금 | J7: 5576273 | K7: 13690000 | L7: =K7-J7 -> 8113727
C8: 토이케어단 | D8: 41101540 | E8: 75600000 | F8: =E8-D8 -> 34498460 | I8: 사회보험부담비용 | J8: 5886510 | K8: 15850000 | L8: =K8-J8 -> 9963490
C9: 환경정비대 | D9: 100235330 | E9: 441000000 | F9: =E9-D9 -> 340764670 | I9: 기타후생경비 | J9: 0 | K9: 600000 | L9: =K9-J9 -> 600000
C10: 라이스우먼 | D10: 29465020 | E10: 0 | F10: =E10-D10 -> -29465020 | L10: =K10-J10 -> 0
C11: 은가비 | D11: 29047080 | E11: 50400000 | F11: =E11-D11 -> 21352920 | L11: =K11-J11 -> 0
C12: 피노키오인형극 | D12: 36749390 | E12: 69300000 | F12: =E12-D12 -> 32550610 | L12: =K12-J12 -> 0
C13: 늘해랑예술단 | D13: 37204300 | E13: 56700000 | F13: =E13-D13 -> 19495700 | L13: =K13-J13 -> 0
C14: 도시농부 | D14: 104792050 | E14: 189000000 | F14: =E14-D14 -> 84207950 | L14: =K14-J14 -> 0
C15: 전래놀이지도사 | D15: 23713790 | E15: 47250000 | F15: =E15-D15 -> 23536210 | L15: =K15-J15 -> 0
C16: 정류장깔끔이 | D16: 25704000 | E16: 472500000 | F16: =E16-D16 -> 446796000 | L16: =K16-J16 -> 0
C17: 안심방범대 | D17: 0 | E17: 107100000 | F17: =E17-D17 -> 107100000 | L17: =K17-J17 -> 0
C18: 땡길때면 | D18: 10220800 | E18: 26700000 | F18: =E18-D18 -> 16479200 | L18: =K18-J18 -> 0
C19: 계룡OK6070아파트택배사업단 | D19: 16824980 | E19: 16020000 | F19: =E19-D19 -> -804980 | L19: =K19-J19 -> 0
C20: 노랑커피 | D20: 29370000 | E20: 42720000 | F20: =E20-D20 -> 13350000 | L20: =K20-J20 -> 0
C21: 공동작업장 | D21: 0 | E21: 29370000 | F21: =E21-D21 -> 29370000 | L21: =K21-J21 -> 0
... C25: 전담인력 | D25: 37830000 | E25: 177149000 | F25: =E25-D25 -> 139319000 | L25: =K25-J25 -> 0
A26: 과년도수입 | B26: 과년도수입 | C26: 과년도수입 | D26: =SUM('18년결산'!G15) -> 0 | E26: 0 | F26: =E26-D26 -> 0 | L26: =K26-J26 -> 0
D27: =SUM('18년결산'!G16) -> 0 | E27: 0 | F27: =E27-D27 -> 0 | L27: =K27-J27 -> 0
A28: 보조금수입 | B28: 보조금 수입 | C28: 국고보조금 | D28: 100000000 | E28: 125000000 | F28: =E28-D28 -> 25000000 | H28: 업무추진비 | I28: 기관운영비 | J28: 750500 | K28: 2000000 | L28: =K28-J28 -> 1249500
C29: 시도보조금 | D29: 30000000 | E29: 37500000 | F29: =E29-D29 -> 7500000 | I29: 회의비 | J29: 0 | K29: 500000 | L29: =K29-J29 -> 500000
C30: 시군구보조금 | D30: 70000000 | E30: 87500000 | F30: =E30-D30 -> 17500000 | L30: =K30-J30 -> 0
C31: 기타보조금 | D31: =SUM('18년결산'!G20) -> 0 | E31: 0 | F31: =E31-D31 -> 0 | L31: =K31-J31 -> 0
A32: 후원금수입 | B32: 후원금 수입 | C32: 지정후원금 | D32: =SUM('18년결산'!H21) -> 0 | E32: 0 | F32: =E32-D32 -> 0 | L32: =K32-J32 -> 0
C33: 비지정후원금 | D33: =SUM('18년결산'!H22) -> 0 | E33: 0 | F33: =E33-D33 -> 0 | H33: 운영비 | I33: 여비 | J33: 600000 | K33: 1000000 | L33: =K33-J33 -> 400000
F34: =E34-D34 -> 0 | I34: 수용비 및 수수료 | J34: 780000 | K34: 7756000 | L34: =K34-J34 -> 6976000
D35: 0 | F35: =E35-D35 -> 0 | I35: 공공요금 | J35: 2400000 | K35: 14100000 | L35: =K35-J35 -> 11700000
A36: 차입금 | B36: 차입금 | C36: 금융기관차입금 | D36: =SUM('18년결산'!H25) -> 0 | E36: 0 | F36: =E36-D36 -> 0 | I36: 제세공과금 | J36: 3250000 | K36: 6024000 | L36: =K36-J36 -> 2774000
C37: 기타차입금 | D37: =SUM('18년결산'!H26) -> 0 | E37: 0 | F37: =E37-D37 -> 0 | I37: 차량비 | J37: 1000000 | K37: 6740000 | L37: =K37-J37 -> 5740000
A38: 전입금 | B38: 전입금 | C38: 법인전입금 | D38: =SUM('18년결산'!H27) -> 0 | E38: 0 | F38: =E38-D38 -> 0 | I38: 기타운영비 | J38: 15571017 | K38: 9494000 | L38: =K38-J38 -> -6077017
D39: 0 | E39: 0 | F39: =E39-D39 -> 0 | J39: =SUM('18년결산'!R28) -> 0 | K39: 0 | L39: =K39-J39 -> 0
A40: 이월금 | B40: 이월금 | C40: 전년도이월금 | D40: =SUM('18년결산'!H29) -> 0 | E40: 0 | F40: =E40-D40 -> 0 | G40: 재산조성비 | H40: 시설비 | I40: 시설비 | J40: 11868550 | K40: 5000000 | L40: =K40-J40 -> -6868550
C41: 이월사업비 | D41: =SUM('18년결산'!H30) -> 0 | E41: 0 | F41: =E41-D41 -> 0 | I41: 자산취득비 | J41: 55281220 | K41: 3000000 | L41: =K41-J41 -> -52281220
D42: 0 | E42: 0 | F42: =E42-D42 -> 0 | J42: =SUM('18년결산'!R31) -> 0 | K42: 0 | L42: =K42-J42 -> 0
A43: 잡수입 | B43: 잡수입 | C43: 불용품매각대금 | D43: =SUM('18년결산'!H32) -> 0 | E43: 0 | F43: =E43-D43 -> 0 | G43: 사업비 | H43: 사업비 | I43: 지역시설도우미 | J43: 320441980 | K43: 1104180000 | L43: =K43-J43 -> 783738020
...

Sheet 2020년 예산총괄표
A1: 계룡시니어클럽 2020년도 예산 총괄표(안)
O2: (단위:원)
B3: 세 입 예 산 | I3: 세 출 예 산 | P3: 비 고
B4: 관 | D4: 항 | E4: 2019년 결산 (A) | F4: 2020년 예산(안) (B) | G4: 증감액 (B-A) | I4: 관 | K4: 항 | L4: 예산 | M4: 2019년 결산 (A) | N4: 2020년 예산(안) (B) | O4: 증감액 (B-A)
B5: 합 계 | E5: =SUM(E6:E13) -> 1294751650 | F5: =SUM(F6:F13) -> 4235589000 | G5: =F5-E5 -> 2940837350 | I5: 합 계 | L5: =SUM(L6:L14) -> 0 | M5: =SUM(M6:M14) -> 1294751650 | N5: =SUM(N6:N14) -> 4235589000 | O5: =N5-M5 -> 2940837350
A6: 01 | B6: 사업수입 | C6: 11 | D6: 사업수입 | E6: =SUM('2020년도 예산'!D5:D25) -> 1094751650 | F6: =SUM('2020년도 예산'!E5:E25) -> 3985589000 | G6: =F6-E6 -> 2890837350 | H6: 01 | I6: 사무비 | J6: 11 | K6: 인건비 | M6: =SUM('2020년도 예산'!J5:J26) -> 78498713 | N6: =SUM('2020년도 예산'!K5:K25) -> 194386000 | O6: =N6-M6 -> 115887287
A7: 02 | B7: 과년도수입 | C7: 21 | D7: 과년도수입 | E7: =SUM('2020년도 예산'!D26:D27) -> 0 | F7: =SUM('2020년도 예산'!E26:E27) -> 0 | G7: =F7-E7 -> 0 | J7: 12 | K7: 업무추진비 | L7: 0 | M7: =SUM('2020년도 예산'!J28:J30) -> 750500 | N7: =SUM('2020년도 예산'!K28:K30) -> 2500000 | O7: =N7-M7 -> 1749500
A8: 03 | B8: 보조금수입 | C8: 31 | D8: 보조금 수입 | E8: ='2020년도 예산'!D28+'2020년도 예산'!D29+'2020년도 예산'!D30 -> 200000000 | F8: =SUM('2020년도 예산'!E28:E30) -> 250000000 | G8: =F8-E8 -> 50000000 | J8: 13 | K8: 운영비 | M8: =SUM('2020년도 예산'!J33:J39) -> 23601017 | N8: =SUM('2020년도 예산'!K33:K39) -> 45114000 | O8: =N8-M8 -> 21512983
A9: 04 | B9: 후원금수입 | C9: 41 | D9: 후원금 수입 | E9: =SUM('2020년도 예산'!D32:D33) -> 0 | F9: =SUM('2020년도 예산'!E32:E33) -> 0 | G9: =F9-E9 -> 0 | H9: 02 | I9: 재산조성비 | J9: 21 | K9: 시설비 | L9: 0 | M9: =SUM('2020년도 예산'!J40:J42) -> 67149770 | N9: =SUM('2020년도 예산'!K40:K42) -> 8000000 | O9: =N9-M9 -> -59149770
A10: 05 | B10: 차입금 | C10: 51 | D10: 차입금 | E10: =SUM('2020년도 예산'!D36:D37) -> 0 | F10: =SUM('2020년도 예산'!E36:E37) -> 0 | G10: =F10-E10 -> 0 | H10: 03 | I10: 사업비 | J10: 31 | K10: 사업비 | L10: 0 | M10: =SUM('2020년도 예산'!J43:J64) -> 1124751650 | N10: =SUM('2020년도 예산'!K43:K63) -> 3985589000 | O10: =N10-M10 -> 2860837350
A11: 06 | B11: 전입금 | C11: 61 | D11: 전입금 | E11: =SUM('2020년도 예산'!D38:D39) -> 0 | F11: =SUM('2020년도 예산'!E38:E39) -> 0 | G11: =F11-E11 -> 0 | H11: 04 | I11: 과년도지출 | J11: 41 | K11: 과년도지출 | M11: =SUM('2020년도 예산'!J65) -> 0 | N11: =SUM('2020년도 예산'!K65) -> 0 | O11: =N11-M11 -> 0
A12: 07 | B12: 이월금 | C12: 71 | D12: 이월금 | E12: =SUM('2020년도 예산'!D40:D41) -> 0 | F12: =SUM('2020년도 예산'!E40:E41) -> 0 | G12: =F12-E12 -> 0 | H12: 05 | I12: 상환금 | J12: 51 | K12: 부채상환금 | L12: 0 | M12: =SUM('2020년도 예산'!J66:J67) -> 0 | N12: =SUM('2020년도 예산'!K66:K67) -> 0 | O12: =N12-M12 -> 0
A13: 08 | B13: 잡수입 | C13: 81 | D13: 잡수입 | E13: =SUM('2020년도 예산'!D43:D45) -> 0 | F13: =SUM('2020년도 예산'!E43:E45) -> 0 | G13: =F13-E13 -> 0 | H13: 06 | I13: 잡지출 | J13: 61 | K13: 잡지출 | L13: 0 | M13: =SUM('2020년도 예산'!J68) -> 0 | N13: =SUM('2020년도 예산'!K68) -> 0 | O13: =N13-M13 -> 0
H14: 07 | I14: 예비비 | J14: 71 | K14: 예비비 | L14: 0 | M14: =SUM('2020년도 예산'!J69) -> 0 | N14: =SUM('2020년도 예산'!K69:K70) -> 0 | O14: =N14-M14 -> 0
